Workbook
Name Auftragnehmer: #REF!
Name Ausschreibungsart: #REF!
Name Bitte_zutreffendes_auswählen?: #REF!
Name Sublieferant: #REF!

Sheet Anleitung
A1: BEDARFSERHEBUNG
A3: Obst und Gemüse frisch/küchenfertig/BIO
A4: BBG GZ 4401.05497
A5: Anleitung
A8: Hinweise | B8: Zweck | C8: Dieses Formblatt dient der Erhebung Ihrer Bedarfe.
B9: Vollständigkeit | C9: Bitte füllen Sie alle Tabellenblätter dieses Formblattes sorgfältig und wahrheitsgemäß aus.
B10: Reihenfolge | C10: Halten Sie die Reihenfolge der Tabellenblätter ein, da teilweise das Formblatt auf Daten aus früheren Schritten zurückgreift.
B11: Kopieren und Ausschneiden | C11: Bitte verzichten Sie darauf, Inhalte zu kopieren, auszuschneiden und neu einzufügen.
B12: Hinweise in den Tabellenblättern | C12: Beachten Sie bitte die Hinweise in den jeweiligen Tabellenblättern. Sollten Unklarheiten bestehen, nutzen Sie die Möglichkeit zeitgerecht Fragen an unsere Einkaufsexpertinnen und Einkaufsexperten zu stellen.
A14: Farbcodes | B14: Überschrift 1 | C14: Keine Eingabe bzw. gesperrtes Feld
B15: Überschrift 2 | C15: Keine Eingabe bzw. gesperrtes Feld
B16: Überschrift 3 | C16: Keine Eingabe bzw. gesperrtes Feld
B17: Informationsfeld | C17: Keine Eingabe bzw. gesperrtes Feld
B18: Wichtiger Hinweis | C18: Keine Eingabe bzw. gesperrtes Feld
C19: Keine Eingabe bzw. gesperrtes Feld
B20: Eingabefeld | C20: Eingabefeld
A22: nachhaltige Beschaffung | B22: Aktionsplan für nachhaltige Beschaffung - naBe Konformität
B23: zum naBe Aktionsplan:
B24: https://www.nabe.gv.at/wp-content/uploads/2021/06/naBe-Aktionsplan_barrierefrei_27052026.pdf
B25: Bitte beachten Sie die aktuelle Version des naBe-Aktionsplans. Obst und Gemüse frisch/küchenfertig/BIO sind eine naBe-relevante Beschaffungsgruppe.

Sheet Datenschutzerklärung
A1: BEDARFSERHEBUNG
A3: Obst und Gemüse frisch/küchenfertig/BIO
A4: BBG GZ 4401.05497
A5: Datenschutzerklärung der Bundesbeschaffung GmbH
A8: Die personenbezogenen Daten, die Sie uns anlässlich dieser Bedarfserhebung angegeben haben, werden entsprechend den einschlägigen österreichischen und europäischen Datenschutzbestimmungen verarbeitet. Rechtsgrundlage dafür sind gesetzliche Verpflichtungen, und zwar insbesondere die Verpflichtungen aufgrund des Bundesvergabegesetzes 2018 (BVergG 2018), des Gesetzes über die Errichtung einer Bundesbeschaffung GmbH (BB-GmbH-Gesetz) sowie der dazu ergangenen Verordnungen wie der Beschaffungscontrolling-Verordnung. Rechtsgrundlage ist weiters die Durchführung vorvertraglicher Maßnahmen. Eine Weitergabe der im jeweiligen Einzelfall relevanten Daten an Dritte erfolgt nicht. Soweit Sie uns eine darüber hinausgehende Datenverwendung freiwillig gestattet haben, verarbeiten wir diese Daten nur auf Grundlage Ihrer Einwilligung und nur zu dem bei der Einwilligung jeweils angegebenen Zweck. Sie können diese Einwilligung jederzeit widerrufen. Ein Widerruf hat zur Folge, dass wir Ihre Daten ab diesem Zeitpunkt zu den genannten Zwecken nicht mehr verarbeiten. Für einen Widerruf wenden Sie sich bitte an: vergabekompetenzcenter@bbg.gv.at Wir speichern Ihre Daten nur so lange bis der jeweilige Zweck erfüllt ist, zu dem sie erhoben wurden, und allfällige gesetzliche Aufbewahrungs- und Dokumentationspflichten abgelaufen sind. Für diese Datenverarbeitung ziehen wir Auftragsverarbeiter heran, mit denen eine Vereinbarung gemäß Artikel 28 DSGVO abgeschlossen wurde. Die Bundesbeschaffung GmbH setzt umfangreiche Schutzmaßnahmen technischer und organisatorischer Art ein, um einen Missbrauch der Daten zu verhindern. Sie erreichen uns unter folgenden Kontaktdaten: Bundesbeschaffung GmbH Lassallestraße 9b, 1020 Wien office@bbg.gv.at Unseren Datenschutzbeauftragten erreichen Sie unter: vergabekompetenzcenter@bbg.gv.at Rechtsbehelfsbelehrung der Bundesbeschaffung GmbH: Ihnen stehen grundsätzlich die Rechte auf Auskunft, Berichtigung, Löschung, Einschränkung, Datenübertragbarkeit und Widerspruch zu. Dafür wenden Sie sich an uns. Wenn Sie glauben, dass die Verarbeitung Ihrer Daten gegen das Datenschutzrecht verstößt oder Ihre datenschutzrechtlichen Ansprüche sonst in einer Weise verletzt worden sind, ersuchen wir um vorrangige Kontaktaufnahme mit unserem Datenschutzbeauftragten. Sie haben auch das Recht sich bei der in Österreich zuständigen Aufsichtsbehörde zu beschweren. Kontakt: Österreichische Datenschutzbehörde Barichgasse 40-42 1030 Wien Telefon: +43 1 531 15-202525 Telefax: +43 1 531 15-202690 E: dsb@dsb.gv.at W: http://www.dsb.gv.at/

Sheet Erklärungsblatt_GV
A1: BEDARFSERHEBUNG
A3: Obst und Gemüse frisch/küchenfertig/BIO
A4: BBG GZ 4401.05497
A5: Erklärungsblatt
A8: Art der Ausschreibung: | C8: Folgeausschreibung
A9: Aktuelle Geschäftszahl: | C9: 4401.03877 (Obst und Gemüse frisch/küchenfertig/BIO)
A10: Neue Geschäftszahl: | C10: 4401.05497
A11: Aktuelle Auftragnehmer: | C11: Los | D11: Losbezeichnung | E11: Auftragnehmer / Lieferant
C12: 1 | D12: Wien - frisch | E12: Grünzeug & Mehr GmbH
C13: 2 | D13: Niederösterreich und Burgenland Nord - frisch | E13: Marksteiner & Wagersreiter Handels OG
C14: 3 | D14: Steiermark und Burgenland Süd - frisch | E14: JHG Gastroexpress GmbH
C15: 4 | D15: Kärnten und Osttirol - frisch | E15: JHG Gastroexpress GmbH
C16: 5 | D16: Oberösterreich - frisch | E16: Hans Schoberleitner Gesellschaft m.b.H. & Co. KG.
C17: 6 | D17: Salzburg - frisch | E17: Eisl Gastronomieservice GmbH
C18: 7 | D18: Tirol - frisch | E18: Transgourmet Österreich GmbH Traun
C19: 8 | D19: Vorarlberg - frisch | E19: Transgourmet Österreich GmbH Traun
C20: 9 | D20: Mensen Wien - frisch | E20: Marksteiner & Wagersreiter Handels OG
C21: 10 | D21: Mensen Niederösterreich - frisch | E21: Marksteiner & Wagersreiter Handels OG
C22: 11 | D22: Mensen Oberösterreich - frisch | E22: Hans Schoberleitner Gesellschaft m.b.H. & Co. KG.
C23: 12 | D23: Mensen Steiermark - frisch | E23: JHG Gastroexpress GmbH
... C34: 23 | D34: Westösterreich - BIO küchenfertig | E34: BIOGAST GmbH
A35: Rückmeldefrist: | C35: 46357
A37: Kontakt | B37: Ihre Dienststelle | C37: Dienststelle | G37: =IF(E37="", "Eingabe unvollständig!","") -> Eingabe unvollständig!
C38: Straße | G38: =IF(E38="", "Eingabe unvollständig!","") -> Eingabe unvollständig!
C39: Ort | G39: =IF(E39="", "Eingabe unvollständig!","") -> Eingabe unvollständig!
C40: PLZ | G40: =IF(E40="", "Eingabe unvollständig!","") -> Eingabe unvollständig!
C41: Zustelladresse(n) - anzugeben, wenn diese von der oben genannten Adresse der Dienststelle abweichen Der Auftragger stimmt zu, dass die Dienststellen und Zustelladresse(n) den Bietern im Rahmen der Ausschreibungsunterlagen zur besseren Kalkulation zur Verfügung gestellt wird/werden. | G41: =IF(E41="", "Eingabe unvollständig!","") -> Eingabe unvollständig!
C42: Besonderheiten bei der Zustellung (z.B. im Winter nur mit Schneeketten erreichbar, steile Anfahrt; Sicherheitskontrolle, Schranken etc.) | G42: =IF(E42="", "Eingabe unvollständig!","") -> Eingabe unvollständig!
B43: Ihre Kontaktdaten | C43: Vor- und Nachname | G43: =IF(E43="", "Eingabe unvollständig!","") -> Eingabe unvollständig!
C44: Telefonnummer | G44: =IF(E44="", "Eingabe unvollständig!","") -> Eingabe unvollständig!
C45: E-Mail-Adresse | G45: =IF(E45="", "Eingabe unvollständig!","") -> Eingabe unvollständig!
A47: Erklärung des Kunden zur Bedarfserhebung | B47: Hiermit nennen wir entsprechend der Grundsatzvereinbarung unsere derzeit bekannten Bedarfe für die Ausschreibung. Uns ist bewusst, dass die BBG gemäß Punkt 4.4 der Grundsatzvereinbarung berechtigt ist, Bedarfe sachkundig zu schätzen, sofern wir keine angegeben haben. Zudem ist offenkundig, dass eine etwaige Exklusion als Auftraggeber der geplanten Ausschreibung den Verlust der Abrufberechtigung im resultierenden Vertrag zur Folge hat.
A56: Hinweise zur Bedarfserhebung | B56: Sehr geehrte Damen und Herren, die BBG beabsichtigt in den nächsten Monaten eine bundesweite Ausschreibung zur Beschaffung von Obst und Gemüse frisch/küchenfertig/BIO durchzuführen. Bei diesem Ausschreibungsvorhaben handelt es sich um eine Folgeausschreibung. Wir bitten Sie deshalb höflich, sich kurz mit dieser Bedarfserhebung auseinander zu setzten und uns Ihre Bedarfe, Anregungen und Wünsche zu diesem Thema bekannt zu geben. Bitte beachten Sie, dass die gemeldete Bedarfe unverbindlich sind und daraus für Sie keine Abnahmeverpflichtung entsteht. Des Weiteren ist zu beachten, dass diese Beschaffungsgruppe dem naBe-Aktionsplan unterliegt und der Auftraggeber für die Einhaltung der naBe-Kriterien eigenverantwortlich ist. Vorgehensweise beim Ausfüllen der Bedarfserhebung Bitte geben sie Ihren geschätzten Bedarf pro Jahr (!) in den entsprechenden Feldern an. Bitte beachten Sie, dass hier der Jahresbedarf in Kilogramm einzutragen ist. Im zusätzlichen Reiter "erweiterter Warenkorb" können Sie Wünsche oder Anmerkungen platzieren, z.B. eine andere Verpackungsgröße, andere Spezifikation, zusätzliche Produkte oder auch BIO-Artikel.
A63: Ansprechpartner in der BBG | B63: Sollten Sie inhaltliche Fragen haben oder Hilfe benötigen, wenden Sie sich gerne an:
B64: Name | C64: DI Florian Freiler
B65: Telefonnummer | C65: +43 664 96 49 160
B66: E-Mail-Adresse | C66: Florian.Freiler@bbg.gv.at

Sheet Frische Ware
H2: BEDARFSERHEBUNG
H4: Obst und Gemüse frisch/küchenfertig/BIO
H5: BBG GZ 4401.05497
H6: Angabe der Bedarfe
H8: Falls zutreffend, bitte alle blauen Felder ausfüllen.
J10: Bedarfserhebung für frische Ware | K10: Packungsinhalt
A11: Bund/GV | B11: Nr. | C11: PLZ | D11: Dienststelle | E11: Zustelladresse | F11: Besonderheiten bei Zustellung | H11: naBe | I11: BBG Artikelbezeichnung | J11: Spezifikation - Mindestanforderungen | K11: Untergrenze Gebinde | L11: Obergrenze Gebinde | M11: Gebinde-Einheit | N11: orientiert sich an Klasse | O11: Saison/Verfügbarkeit | P11: BIO | Q11: AMA oder gleichwertig gefordert | R11: Global G.A.P. gefordert | S11: GVO-frei gefordert | T11: Geschätzter Jahresbedarf in Kilogramm | U11: Anmerkungen
A12: GV | B12: 1 | C12: =Erklärungsblatt_GV!$E$40 -> 0 | D12: =Erklärungsblatt_GV!$E$37 -> 0 | E12: =Erklärungsblatt_GV!$E$41 -> 0 | F12: =Erklärungsblatt_GV!$E$42 -> 0 | H12: naBe | I12: BIO "Misch"-Salat | J12: frischer Anschnitt, keine braunen Rippen od. Blattränder, mindestens 3 verschiedene Blattsalate nach Saison | K12: 8 | L12: 12 | M12: STK | N12: 2 | O12: ganzjährig | P12: JA | Q12: NEIN | R12: JA | S12: JA
A13: GV | B13: 2 | C13: =Erklärungsblatt_GV!$E$40 -> 0 | D13: =Erklärungsblatt_GV!$E$37 -> 0 | E13: =Erklärungsblatt_GV!$E$41 -> 0 | F13: =Erklärungsblatt_GV!$E$42 -> 0 | H13: naBe | I13: BIO Ananas | J13: frische grifffeste Ware, Blätter müssen grün sein, gleichmäßige Größe, "Extra Sweet", mind. 1,2 kg je Stk | K13: 7 | L13: 12 | M13: STK | N13: 2 | O13: ganzjährig | P13: JA | Q13: NEIN | R13: JA | S13: JA
A14: GV | B14: 3 | C14: =Erklärungsblatt_GV!$E$40 -> 0 | D14: =Erklärungsblatt_GV!$E$37 -> 0 | E14: =Erklärungsblatt_GV!$E$41 -> 0 | F14: =Erklärungsblatt_GV!$E$42 -> 0 | H14: naBe | I14: BIO Äpfel div. Sorten, gelegt | J14: gelegte Ware, nach Saison, Durchmesser 65/70 und 75/80mm, Mindestanforderung Sorten: Golden Delicious gelb/ grün, Gala rot, Idared rot/grün, Jonagold rot/grün, Elstar, Arlet, Cripps Pink | K14: 1 | L14: 7 | M14: KG | N14: 2 | O14: ganzjährig mind. zwei Sorten je nach Saison | P14: JA | Q14: NEIN | R14: JA | S14: JA
A15: GV | B15: 4 | C15: =Erklärungsblatt_GV!$E$40 -> 0 | D15: =Erklärungsblatt_GV!$E$37 -> 0 | E15: =Erklärungsblatt_GV!$E$41 -> 0 | F15: =Erklärungsblatt_GV!$E$42 -> 0 | H15: naBe | I15: BIO Äpfel div. Sorten, lose | J15: lose Ware, nach Saison, Durchmesser 65/70 und 75/80mm,, Mindestanforderung Sorten: Golden Delicious gelb/ grün, Gala rot, Idared rot/grün, Jonagold rot/grün; Elstar, Arlet, Cripps Pink; 60-70 Stück je Kiste | K15: 6 | L15: 16 | M15: KG | N15: 2 | O15: ganzjährig mind. zwei Sorten je nach Saison | P15: JA | Q15: NEIN | R15: JA | S15: JA
A16: GV | B16: 5 | C16: =Erklärungsblatt_GV!$E$40 -> 0 | D16: =Erklärungsblatt_GV!$E$37 -> 0 | E16: =Erklärungsblatt_GV!$E$41 -> 0 | F16: =Erklärungsblatt_GV!$E$42 -> 0 | H16: naBe | I16: BIO Banane | J16: Mindestanzahl Farbstufen: 3 und 4; keine braunen Flecken, feste dicke Schale, grüner Stiel | K16: 12 | L16: 19 | M16: KG | N16: 2 | O16: ganzjährig | P16: JA | Q16: NEIN | R16: JA | S16: JA
A17: GV | B17: 6 | C17: =Erklärungsblatt_GV!$E$40 -> 0 | D17: =Erklärungsblatt_GV!$E$37 -> 0 | E17: =Erklärungsblatt_GV!$E$41 -> 0 | F17: =Erklärungsblatt_GV!$E$42 -> 0 | H17: naBe | I17: BIO Banane "fairtrade" | J17: nach Fairtrade Richtlinien hergestellt, Mindestanzahl Farbstufen: 3 und 4; keine braunen Flecken, feste dicke Schale, grüner Stiel | K17: 12 | L17: 19 | M17: KG | N17: 2 | O17: ganzjährig | P17: JA | Q17: NEIN | R17: JA | S17: JA
A18: GV | B18: 7 | C18: =Erklärungsblatt_GV!$E$40 -> 0 | D18: =Erklärungsblatt_GV!$E$37 -> 0 | E18: =Erklärungsblatt_GV!$E$41 -> 0 | F18: =Erklärungsblatt_GV!$E$42 -> 0 | H18: naBe | I18: BIO Brokkoli | J18: frische dunkelgrüne Ware, geschlossene Knospen, kurzer Strunk | K18: 2 | L18: 10 | M18: KG | N18: 2 | O18: November bis April | P18: JA | Q18: NEIN | R18: JA | S18: JA
A19: GV | B19: 8 | C19: =Erklärungsblatt_GV!$E$40 -> 0 | D19: =Erklärungsblatt_GV!$E$37 -> 0 | E19: =Erklärungsblatt_GV!$E$41 -> 0 | F19: =Erklärungsblatt_GV!$E$42 -> 0 | H19: naBe | I19: BIO Champignons | J19: saubere, gelegte weiße oder braune Ware, keine organoleptischen Abweichungen | K19: 2 | L19: 5 | M19: KG | N19: 2 | O19: ganzjährig | P19: JA | Q19: NEIN | R19: JA | S19: JA
A20: GV | B20: 9 | C20: =Erklärungsblatt_GV!$E$40 -> 0 | D20: =Erklärungsblatt_GV!$E$37 -> 0 | E20: =Erklärungsblatt_GV!$E$41 -> 0 | F20: =Erklärungsblatt_GV!$E$42 -> 0 | H20: naBe | I20: BIO Chinakohl | J20: frischer Anschnitt, nicht ausgewachsen, keine Flecken | K20: 5 | L20: 10 | M20: KG | N20: 2 | O20: Oktober bis März | P20: JA | Q20: NEIN | R20: JA | S20: JA
A21: GV | B21: 10 | C21: =Erklärungsblatt_GV!$E$40 -> 0 | D21: =Erklärungsblatt_GV!$E$37 -> 0 | E21: =Erklärungsblatt_GV!$E$41 -> 0 | F21: =Erklärungsblatt_GV!$E$42 -> 0 | H21: naBe | I21: BIO Clementine | J21: Hybrid zwischen Mandarine und Pomeranze, kernlos, gleichmäßige Färbung, geringe Schalenfehler, Mindestgröße 35mm | K21: 2 | L21: 10 | M21: KG | N21: 2 | O21: November bis Februar | P21: JA | Q21: NEIN | R21: JA | S21: JA
A22: GV | B22: 11 | C22: =Erklärungsblatt_GV!$E$40 -> 0 | D22: =Erklärungsblatt_GV!$E$37 -> 0 | E22: =Erklärungsblatt_GV!$E$41 -> 0 | F22: =Erklärungsblatt_GV!$E$42 -> 0 | H22: naBe | I22: BIO Eisbergsalat | J22: frischer Anschnitt, keine braunen Rippen, fester Kopf, 400-600 g je Stk | K22: 8 | L22: 12 | M22: STK | N22: 2 | O22: ganzjährig | P22: JA | Q22: NEIN | R22: JA | S22: JA
A23: GV | B23: 12 | C23: =Erklärungsblatt_GV!$E$40 -> 0 | D23: =Erklärungsblatt_GV!$E$37 -> 0 | E23: =Erklärungsblatt_GV!$E$41 -> 0 | F23: =Erklärungsblatt_GV!$E$42 -> 0 | H23: naBe | I23: BIO Feldgurke | J23: frische, feste Ware, keine Faulstellen oder weiche Spitzen, mind. 300g je Stück | K23: 4 | L23: 12 | M23: KG | N23: 2 | O23: April bis September | P23: JA | Q23: NEIN | R23: JA | S23: JA
... A32: GV | B32: 21 | C32: =Erklärungsblatt_GV!$E$40 -> 0 | D32: =Erklärungsblatt_GV!$E$37 -> 0 | E32: =Erklärungsblatt_GV!$E$41 -> 0 | F32: =Erklärungsblatt_GV!$E$42 -> 0 | H32: naBe | I32: BIO Knoblauch | J32: trockene weiße Ware, feste Zehen, Größe 55mm+, mit Schale | K32: 1 | L32: 5 | M32: KG | N32: 2 | O32: September bis März | P32: JA | Q32: NEIN | R32: JA | S32: JA
A33: GV | B33: 22 | C33: =Erklärungsblatt_GV!$E$40 -> 0 | D33: =Erklärungsblatt_GV!$E$37 -> 0 | E33: =Erklärungsblatt_GV!$E$41 -> 0 | F33: =Erklärungsblatt_GV!$E$42 -> 0 | H33: naBe | I33: BIO Kräuterseitlinge | J33: frische Ware, keine braunen Flecken | K33: 2 | L33: 3 | M33: KG | N33: 2 | O33: ganzjährig | P33: JA | Q33: NEIN | S33: JA
A34: GV | B34: 23 | C34: =Erklärungsblatt_GV!$E$40 -> 0 | D34: =Erklärungsblatt_GV!$E$37 -> 0 | E34: =Erklärungsblatt_GV!$E$41 -> 0 | F34: =Erklärungsblatt_GV!$E$42 -> 0 | H34: naBe | I34: BIO Kresse | J34: frische Ware, dunkelgrün und dicht, 100-250 g Tasse | K34: 100 | L34: 250 | M34: GR | N34: 2 | O34: ganzjährig | P34: JA | Q34: NEIN | R34: JA | S34: JA
A35: GV | B35: 24 | C35: =Erklärungsblatt_GV!$E$40 -> 0 | D35: =Erklärungsblatt_GV!$E$37 -> 0 | E35: =Erklärungsblatt_GV!$E$41 -> 0 | F35: =Erklärungsblatt_GV!$E$42 -> 0 | H35: naBe | I35: BIO Melanzani | J35: glänzende dunkelviolette Schale, gleichmäßig sortiert, mind. 400g je Stück | K35: 2 | L35: 6 | M35: KG | N35: 2 | O35: ganzjährig | P35: JA | Q35: NEIN | R35: JA | S35: JA
A36: GV | B36: 25 | C36: =Erklärungsblatt_GV!$E$40 -> 0 | D36: =Erklärungsblatt_GV!$E$37 -> 0 | E36: =Erklärungsblatt_GV!$E$41 -> 0 | F36: =Erklärungsblatt_GV!$E$42 -> 0 | H36: naBe | I36: BIO Mungosprossen | J36: Keimlinge aus Mungobohnen, foliert oder im Beutel | K36: 1 | L36: 2 | M36: KG | N36: 2 | O36: ganzjährig | P36: JA | Q36: NEIN | R36: JA | S36: JA
A37: GV | B37: 26 | C37: =Erklärungsblatt_GV!$E$40 -> 0 | D37: =Erklärungsblatt_GV!$E$37 -> 0 | E37: =Erklärungsblatt_GV!$E$41 -> 0 | F37: =Erklärungsblatt_GV!$E$42 -> 0 | H37: naBe | I37: BIO Muskat-Kürbis | J37: Saubere trockene Ware, feste Stücke | K37: 2 | L37: 12 | M37: KG | N37: 2 | O37: August bis November | P37: JA | Q37: NEIN | R37: JA | S37: JA
A38: GV | B38: 27 | C38: =Erklärungsblatt_GV!$E$40 -> 0 | D38: =Erklärungsblatt_GV!$E$37 -> 0 | E38: =Erklärungsblatt_GV!$E$41 -> 0 | F38: =Erklärungsblatt_GV!$E$42 -> 0 | H38: naBe | I38: BIO Navel Orange | J38: gleichmäßig sortiert, keine Schalenfehler, gleichmäßige Ausfärbung, Größe 80mm+ | K38: 3 | L38: 15 | M38: KG | N38: 2 | O38: September bis Juni | P38: JA | Q38: NEIN | R38: JA | S38: JA
A39: GV | B39: 28 | C39: =Erklärungsblatt_GV!$E$40 -> 0 | D39: =Erklärungsblatt_GV!$E$37 -> 0 | E39: =Erklärungsblatt_GV!$E$41 -> 0 | F39: =Erklärungsblatt_GV!$E$42 -> 0 | H39: naBe | I39: BIO Nektarine | J39: gelegt, reife, feste Ware, keine Druckstellen , Größe 55 bis 65mm | K39: 1 | L39: 10 | M39: KG | N39: 2 | O39: Mai bis Oktober | P39: JA | Q39: NEIN | R39: JA | S39: JA
A40: GV | B40: 29 | C40: =Erklärungsblatt_GV!$E$40 -> 0 | D40: =Erklärungsblatt_GV!$E$37 -> 0 | E40: =Erklärungsblatt_GV!$E$41 -> 0 | F40: =Erklärungsblatt_GV!$E$42 -> 0 | H40: naBe | I40: BIO Paprika gelb/orange | J40: sorten- (farb) rein, frische feste Ware, gleichmäßig sortiert, intensive Färbung, 80/100 mm, 150-260g/ Stk | K40: 4 | L40: 5 | M40: KG | N40: 2 | O40: ganzjährig | P40: JA | Q40: NEIN | R40: JA | S40: JA
A41: GV | B41: 30 | C41: =Erklärungsblatt_GV!$E$40 -> 0 | D41: =Erklärungsblatt_GV!$E$37 -> 0 | E41: =Erklärungsblatt_GV!$E$41 -> 0 | F41: =Erklärungsblatt_GV!$E$42 -> 0 | H41: naBe | I41: BIO Paprika grün | J41: sorten- (farb) rein, frische feste Ware, gleichmäßig sortiert, intensive Färbung, 80/100 mm, 150-260g/ Stk | K41: 4 | L41: 5 | M41: KG | N41: 2 | O41: ganzjährig | P41: JA | Q41: NEIN | R41: JA | S41: JA
A42: GV | B42: 31 | C42: =Erklärungsblatt_GV!$E$40 -> 0 | D42: =Erklärungsblatt_GV!$E$37 -> 0 | E42: =Erklärungsblatt_GV!$E$41 -> 0 | F42: =Erklärungsblatt_GV!$E$42 -> 0 | H42: naBe | I42: BIO Paprika rot | J42: sorten- (farb) rein, frische feste Ware, gleichmäßig sortiert, intensive Färbung, 80/100 mm, 150-260g/ Stk | K42: 4 | L42: 5 | M42: KG | N42: 2 | O42: ganzjährig | P42: JA | Q42: NEIN | R42: JA | S42: JA
A43: GV | B43: 32 | C43: =Erklärungsblatt_GV!$E$40 -> 0 | D43: =Erklärungsblatt_GV!$E$37 -> 0 | E43: =Erklärungsblatt_GV!$E$41 -> 0 | F43: =Erklärungsblatt_GV!$E$42 -> 0 | H43: naBe | I43: BIO Pfirsich | J43: gelegt, reife, feste Ware, keine Druckstellen, Größe 55 bis 65mm | K43: 1 | L43: 10 | M43: KG | N43: 2 | O43: Mai bis Oktober | P43: JA | Q43: NEIN | R43: JA | S43: JA
A44: GV | B44: 33 | C44: =Erklärungsblatt_GV!$E$40 -> 0 | D44: =Erklärungsblatt_GV!$E$37 -> 0 | E44: =Erklärungsblatt_GV!$E$41 -> 0 | F44: =Erklärungsblatt_GV!$E$42 -> 0 | H44: naBe | I44: BIO Porree/Lauch | J44: frische Ware, weiße Wurzel, zugeputztes Grün, nicht mehr als 40% Grünanteil, max. 500g per Stange, Größe ca. 20-50mm | K44: 2 | L44: 10 | M44: KG | N44: 2 | O44: Mai bis Februar | P44: JA | Q44: NEIN | R44: JA | S44: JA
A45: GV | B45: 34 | C45: =Erklärungsblatt_GV!$E$40 -> 0 | D45: =Erklärungsblatt_GV!$E$37 -> 0 | E45: =Erklärungsblatt_GV!$E$41 -> 0 | F45: =Erklärungsblatt_GV!$E$42 -> 0 | H45: naBe | I45: BIO Pressorangen | J45: unbehandelt, gleichmäßig sortiert, gleichmäßige Ausfärbung, Größe 70mm+, Mindestsaftgehalt 35% | K45: 5 | L45: 15 | M45: KG | N45: 2 | O45: September bis Juni | P45: JA | Q45: NEIN | R45: JA | S45: JA
... A84: GV | B84: 73 | C84: =Erklärungsblatt_GV!$E$40 -> 0 | D84: =Erklärungsblatt_GV!$E$37 -> 0 | E84: =Erklärungsblatt_GV!$E$41 -> 0 | F84: =Erklärungsblatt_GV!$E$42 -> 0 | H84: naBe | I84: Eichblattsalat; AMA/gleichwertig | J84: frischer Anschnitt, keine braunen Rippen od. Blattränder, mind. 200 g je Stk | K84: 8 | L84: 12 | M84: STK | N84: 1 | O84: Mai bis Oktober | P84: NEIN | Q84: JA | R84: JA | S84: JA
A85: GV | B85: 74 | C85: =Erklärungsblatt_GV!$E$40 -> 0 | D85: =Erklärungsblatt_GV!$E$37 -> 0 | E85: =Erklärungsblatt_GV!$E$41 -> 0 | F85: =Erklärungsblatt_GV!$E$42 -> 0 | H85: nicht konform | I85: Eierschwammerl | J85: saubere Ware, keine braunen Flecken, frische und nicht vertrocknete Optik | K85: 2 | L85: 3 | M85: KG | N85: 1 | O85: Mai bis November | P85: NEIN | Q85: NEIN | S85: JA
A86: GV | B86: 75 | C86: =Erklärungsblatt_GV!$E$40 -> 0 | D86: =Erklärungsblatt_GV!$E$37 -> 0 | E86: =Erklärungsblatt_GV!$E$41 -> 0 | F86: =Erklärungsblatt_GV!$E$42 -> 0 | H86: naBe | I86: Eisbergsalat | J86: frischer Anschnitt, keine braunen Rippen, fester Kopf, 400-600 g je Stk | K86: 8 | L86: 12 | M86: STK | N86: 1 | O86: November bis April | P86: NEIN | Q86: NEIN | R86: JA | S86: JA
A87: GV | B87: 76 | C87: =Erklärungsblatt_GV!$E$40 -> 0 | D87: =Erklärungsblatt_GV!$E$37 -> 0 | E87: =Erklärungsblatt_GV!$E$41 -> 0 | F87: =Erklärungsblatt_GV!$E$42 -> 0 | H87: naBe | I87: Eisbergsalat; AMA/gleichwertig | J87: frischer Anschnitt, keine braunen Rippen, fester Kopf, 400-600 g je Stk | K87: 8 | L87: 12 | M87: STK | N87: 1 | O87: Mai bis Oktober | P87: NEIN | Q87: JA | R87: JA | S87: JA
A88: GV | B88: 77 | C88: =Erklärungsblatt_GV!$E$40 -> 0 | D88: =Erklärungsblatt_GV!$E$37 -> 0 | E88: =Erklärungsblatt_GV!$E$41 -> 0 | F88: =Erklärungsblatt_GV!$E$42 -> 0 | H88: naBe | I88: Endiviensalat | J88: frischer Anschnitt, keine braunen Rippen od. Blattränder, festes hellgrünes Herz, mind. 600 g je Stk | K88: 6 | L88: 12 | M88: STK | N88: 1 | O88: November bis Mai | P88: NEIN | Q88: NEIN | R88: JA | S88: JA
A89: GV | B89: 78 | C89: =Erklärungsblatt_GV!$E$40 -> 0 | D89: =Erklärungsblatt_GV!$E$37 -> 0 | E89: =Erklärungsblatt_GV!$E$41 -> 0 | F89: =Erklärungsblatt_GV!$E$42 -> 0 | H89: naBe | I89: Endiviensalat; AMA/gleichwertig | J89: frischer Anschnitt, keine braunen Rippen od. Blattränder, festes hellgrünes Herz, mind. 600 g je Stk | K89: 6 | L89: 12 | M89: STK | N89: 1 | O89: Juni bis Oktober | P89: NEIN | Q89: JA | R89: JA | S89: JA
A90: GV | B90: 79 | C90: =Erklärungsblatt_GV!$E$40 -> 0 | D90: =Erklärungsblatt_GV!$E$37 -> 0 | E90: =Erklärungsblatt_GV!$E$41 -> 0 | F90: =Erklärungsblatt_GV!$E$42 -> 0 | H90: naBe | I90: Erdbeere | J90: gesunde trockene Ware, mit Deckel oder Folie, Mindestgröße 20mm | K90: 1 | L90: 5 | M90: KG | N90: 1 | O90: ganzjährig | P90: NEIN | Q90: NEIN | R90: JA | S90: JA
A91: GV | B91: 80 | C91: =Erklärungsblatt_GV!$E$40 -> 0 | D91: =Erklärungsblatt_GV!$E$37 -> 0 | E91: =Erklärungsblatt_GV!$E$41 -> 0 | F91: =Erklärungsblatt_GV!$E$42 -> 0 | H91: naBe | I91: Feldgurke | J91: frische, feste Ware, keine Faulstellen oder weiche Spitzen, mind. 300g je Stück | K91: 4 | L91: 12 | M91: KG | N91: 1 | O91: Juni bis September | P91: NEIN | Q91: NEIN | R91: JA | S91: JA
A92: GV | B92: 81 | C92: =Erklärungsblatt_GV!$E$40 -> 0 | D92: =Erklärungsblatt_GV!$E$37 -> 0 | E92: =Erklärungsblatt_GV!$E$41 -> 0 | F92: =Erklärungsblatt_GV!$E$42 -> 0 | H92: naBe | I92: Fenchel | J92: weiße Knolle, keine Schalenfehler, Größe 80mm+ | K92: 2 | L92: 6 | M92: KG | N92: 1 | O92: Dezember bis Mai | P92: NEIN | Q92: NEIN | R92: JA | S92: JA
A93: GV | B93: 82 | C93: =Erklärungsblatt_GV!$E$40 -> 0 | D93: =Erklärungsblatt_GV!$E$37 -> 0 | E93: =Erklärungsblatt_GV!$E$41 -> 0 | F93: =Erklärungsblatt_GV!$E$42 -> 0 | H93: naBe | I93: Fenchel; AMA/gleichwertig | J93: weiße Knolle, keine Schalenfehler, Größe 80mm+ | K93: 2 | L93: 6 | M93: KG | N93: 1 | O93: Juni bis November | P93: NEIN | Q93: JA | R93: JA | S93: JA
A94: GV | B94: 83 | C94: =Erklärungsblatt_GV!$E$40 -> 0 | D94: =Erklärungsblatt_GV!$E$37 -> 0 | E94: =Erklärungsblatt_GV!$E$41 -> 0 | F94: =Erklärungsblatt_GV!$E$42 -> 0 | H94: naBe | I94: Fleischtomate/Ochsenherzen | J94: frische feste Ware,keine Fäulnisflecken, Größe 120-180 mm | K94: 2 | L94: 6 | M94: KG | N94: 1 | O94: Mai bis September | P94: NEIN | Q94: NEIN | R94: JA | S94: JA
A95: GV | B95: 84 | C95: =Erklärungsblatt_GV!$E$40 -> 0 | D95: =Erklärungsblatt_GV!$E$37 -> 0 | E95: =Erklärungsblatt_GV!$E$41 -> 0 | F95: =Erklärungsblatt_GV!$E$42 -> 0 | H95: naBe | I95: Fleischtomate/Ochsenherzen; AMA/gleichwertig | J95: frische feste Ware,keine Fäulnisflecken, Größe 120-180 mm | K95: 2 | L95: 6 | M95: KG | N95: 1 | O95: Mai bis September | P95: NEIN | Q95: JA | R95: JA | S95: JA
A96: GV | B96: 85 | C96: =Erklärungsblatt_GV!$E$40 -> 0 | D96: =Erklärungsblatt_GV!$E$37 -> 0 | E96: =Erklärungsblatt_GV!$E$41 -> 0 | F96: =Erklärungsblatt_GV!$E$42 -> 0 | H96: naBe | I96: Friséesalat | J96: frischer Anschnitt, keine braunen Rippen od. Blattränder | K96: 8 | L96: 12 | M96: STK | N96: 1 | O96: ganzjährig | P96: NEIN | Q96: NEIN | R96: JA | S96: JA
A97: GV | B97: 86 | C97: =Erklärungsblatt_GV!$E$40 -> 0 | D97: =Erklärungsblatt_GV!$E$37 -> 0 | E97: =Erklärungsblatt_GV!$E$41 -> 0 | F97: =Erklärungsblatt_GV!$E$42 -> 0 | H97: naBe | I97: Grüne Fisolen | J97: frische knackige grüne Ware | K97: 1 | L97: 6 | M97: KG | N97: 1 | O97: ganzjährig | P97: NEIN | Q97: NEIN | R97: JA | S97: JA
... A188: GV | B188: 177 | C188: =Erklärungsblatt_GV!$E$40 -> 0 | D188: =Erklärungsblatt_GV!$E$37 -> 0 | E188: =Erklärungsblatt_GV!$E$41 -> 0 | F188: =Erklärungsblatt_GV!$E$42 -> 0 | H188: naBe | I188: Zwiebel weiß, AMA/gleichwertig | J188: Netzsack, sauber trocken gleichmäßig sortiert, keine losen Schalen, Größe 50/70 und 60/80mm | K188: 5 | L188: 10 | M188: KG | N188: 1 | O188: September bis März | P188: NEIN | Q188: JA | R188: JA | S188: JA

Sheet Küchenfertige Ware
H2: BEDARFSERHEBUNG
H4: Obst und Gemüse frisch/küchenfertig/BIO
H5: BBG GZ 4401.05497
H6: Angabe der Bedarfe
H8: Falls zutreffend, bitte alle blauen Felder ausfüllen.
H10: Warenkorb für küchenfertige Ware | L10: Kleinste Verkaufseinheit (VKE) in Gramm
A11: Bund/GV | B11: Nr. | C11: PLZ | D11: Dienststelle | E11: Zustelladresse | F11: Besonderheiten bei Zustellung | H11: naBe | I11: Waren- gruppe | J11: Artikel | K11: Spezifikation | L11: Unter- grenze | M11: Ober grenze | N11: Gebinde | O11: BIO | P11: GlobalG.A.P. | Q11: GVO-frei | R11: Geschätzter Jahresbedarf in Kilogramm | S11: Anmerkungen
A12: GV | B12: 1 | C12: =Erklärungsblatt_GV!$E$40 -> 0 | D12: =Erklärungsblatt_GV!$E$37 -> 0 | E12: =Erklärungsblatt_GV!$E$41 -> 0 | F12: =Erklärungsblatt_GV!$E$42 -> 0 | H12: naBe | I12: Salate küchenfertig | J12: BIO Chinakohl | K12: geschnitten, 5-10mm | L12: 1000 | M12: 2000 | N12: Packung | O12: JA | P12: JA | Q12: JA
A13: GV | B13: 2 | C13: =Erklärungsblatt_GV!$E$40 -> 0 | D13: =Erklärungsblatt_GV!$E$37 -> 0 | E13: =Erklärungsblatt_GV!$E$41 -> 0 | F13: =Erklärungsblatt_GV!$E$42 -> 0 | H13: naBe | I13: Salate küchenfertig | J13: BIO Eisbergsalat fein | K13: geschnitten, 5-7mm | L13: 1000 | M13: 2000 | N13: Packung | O13: JA | P13: JA | Q13: JA
A14: GV | B14: 3 | C14: =Erklärungsblatt_GV!$E$40 -> 0 | D14: =Erklärungsblatt_GV!$E$37 -> 0 | E14: =Erklärungsblatt_GV!$E$41 -> 0 | F14: =Erklärungsblatt_GV!$E$42 -> 0 | H14: naBe | I14: Salate küchenfertig | J14: BIO Eisbergsalat, grob | K14: geschnitten, 20-40mm | L14: 1000 | M14: 2000 | N14: Packung | O14: JA | P14: JA | Q14: JA
A15: GV | B15: 4 | C15: =Erklärungsblatt_GV!$E$40 -> 0 | D15: =Erklärungsblatt_GV!$E$37 -> 0 | E15: =Erklärungsblatt_GV!$E$41 -> 0 | F15: =Erklärungsblatt_GV!$E$42 -> 0 | H15: naBe | I15: Salate küchenfertig | J15: BIO Endiviensalat | K15: geschnitten 6mm | L15: 750 | M15: 2000 | N15: Packung | O15: JA | P15: JA | Q15: JA
A16: GV | B16: 5 | C16: =Erklärungsblatt_GV!$E$40 -> 0 | D16: =Erklärungsblatt_GV!$E$37 -> 0 | E16: =Erklärungsblatt_GV!$E$41 -> 0 | F16: =Erklärungsblatt_GV!$E$42 -> 0 | H16: naBe | I16: Salate küchenfertig | J16: BIO Lollo Rosso | K16: handgezupft | L16: 250 | M16: 1000 | N16: Packung | O16: JA | P16: JA | Q16: JA
A17: GV | B17: 6 | C17: =Erklärungsblatt_GV!$E$40 -> 0 | D17: =Erklärungsblatt_GV!$E$37 -> 0 | E17: =Erklärungsblatt_GV!$E$41 -> 0 | F17: =Erklärungsblatt_GV!$E$42 -> 0 | H17: naBe | I17: Salate küchenfertig | J17: BIO Lollo Verde | K17: handgezupft | L17: 500 | M17: 1000 | N17: Packung | O17: JA | P17: JA | Q17: JA
A18: GV | B18: 7 | C18: =Erklärungsblatt_GV!$E$40 -> 0 | D18: =Erklärungsblatt_GV!$E$37 -> 0 | E18: =Erklärungsblatt_GV!$E$41 -> 0 | F18: =Erklärungsblatt_GV!$E$42 -> 0 | H18: naBe | I18: Salatmischungen | J18: BIO Salatmischung 1 | K18: Eisberg: 30-80%, Streifen, 20-35mm Radicchio: 8-15%, Streifen, 20-35mm Karotten: 8-15%, Julienne, 3x3mm Optionale Zutat: Romanasalat | L18: 1000 | M18: 2000 | N18: Packung | O18: JA | P18: JA | Q18: JA
A19: GV | B19: 8 | C19: =Erklärungsblatt_GV!$E$40 -> 0 | D19: =Erklärungsblatt_GV!$E$37 -> 0 | E19: =Erklärungsblatt_GV!$E$41 -> 0 | F19: =Erklärungsblatt_GV!$E$42 -> 0 | H19: naBe | I19: Salatmischungen | J19: BIO Salatmischung 2 | K19: Musszutaten: Chinakohl: 50-60 %, Streifen, 5-6mm Lauch: 10-15%, Ringe, 3mm Karotten: 10-15%, Julienne, 3x3mm Gelbe Rüben: 10-15%, Julienne, 3x3mm Optionale Zutaten: Soja- oder Munkobohnensprossen: 10-15% | L19: 1000 | M19: 2000 | N19: Packung | O19: JA | P19: JA | Q19: JA
A20: GV | B20: 9 | C20: =Erklärungsblatt_GV!$E$40 -> 0 | D20: =Erklärungsblatt_GV!$E$37 -> 0 | E20: =Erklärungsblatt_GV!$E$41 -> 0 | F20: =Erklärungsblatt_GV!$E$42 -> 0 | H20: naBe | I20: Salatmischungen | J20: BIO Salatmischung 3 | K20: Endivien oder Eisbergsalat: 30-70%, Streifen, 20-35mm Radicchio: 5-20%, Streifen, 20-35mm Eichblatt oder Zuckerhut: 5- 17%, Streifen, 20-35mm Frisée: 5- 17%, Streifen, 20-35mm | L20: 1000 | M20: 2000 | N20: Packung | O20: JA | P20: JA | Q20: JA
A21: GV | B21: 10 | C21: =Erklärungsblatt_GV!$E$40 -> 0 | D21: =Erklärungsblatt_GV!$E$37 -> 0 | E21: =Erklärungsblatt_GV!$E$41 -> 0 | F21: =Erklärungsblatt_GV!$E$42 -> 0 | H21: naBe | I21: Salatmischungen | J21: BIO Salatmischung 4 | K21: Musszutaten: Endivien oder Eisbergsalat:30-60 %, Streifen, 20-35mm Radicchio: 5-20 %, Streifen, 20-35mm Eichblatt: 5- 15%, Streifen, 20-35mm Frisée: 5- 15%, Streifen, 20-35mm Optionale Zutaten: Karotten: 10-15 %, Julienne, 3x3mm | L21: 1000 | M21: 2000 | N21: Packung | O21: JA | P21: JA | Q21: JA
A22: GV | B22: 11 | C22: =Erklärungsblatt_GV!$E$40 -> 0 | D22: =Erklärungsblatt_GV!$E$37 -> 0 | E22: =Erklärungsblatt_GV!$E$41 -> 0 | F22: =Erklärungsblatt_GV!$E$42 -> 0 | H22: naBe | I22: Salatmischungen | J22: BIO Salatmischung 5 | K22: Musszutaten: Eisberg: 40-60 %, 6-35mm Chinakohl: 30-40 %, 6-60mm Optionale Zutaten: Bataviasalat:20-25%, 20-35mm Radiccio: 20-25%, 20-35mm | L22: 1000 | M22: 2000 | N22: Packung | O22: JA | P22: JA | Q22: JA
A23: GV | B23: 12 | C23: =Erklärungsblatt_GV!$E$40 -> 0 | D23: =Erklärungsblatt_GV!$E$37 -> 0 | E23: =Erklärungsblatt_GV!$E$41 -> 0 | F23: =Erklärungsblatt_GV!$E$42 -> 0 | H23: naBe | I23: Salatmischungen | J23: BIO Salatmischung 6 | K23: Musszutaten: Lollo Rosso: 15-20 %, 20-60mm Bataviasalat: 5-35 %, 20-60mm Radicchio: 15-30%, 20-60mm Optionale Zutaten: Vogerlsalat: 25-30 %, ganz Eisbergsalat, geschnitten, 20-60mm | L23: 750 | M23: 2000 | N23: Packung | O23: JA | P23: JA | Q23: JA
... A105: GV | B105: 94 | C105: =Erklärungsblatt_GV!$E$40 -> 0 | D105: =Erklärungsblatt_GV!$E$37 -> 0 | E105: =Erklärungsblatt_GV!$E$41 -> 0 | F105: =Erklärungsblatt_GV!$E$42 -> 0 | H105: naBe | I105: Fruchtsalat | J105: Fruchtsalat: Musszutaten: Äpfel,Orangen, Melonen,Weintrauben Optionale Zutaten: Kiwi, Ananas | K105: fruchtig-süß, im eigenen Fruchtwasser | L105: 4000 | M105: 5000 | N105: Kübel | O105: NEIN | P105: JA | Q105: JA

Sheet Erweiterter Warenkorb
H2: BEDARFSERHEBUNG
H4: Obst und Gemüse frisch/küchenfertig/BIO
H5: BBG GZ 4401.05497
H6: Angabe der Bedarfe - erweiterter Warenkorb
H8: Falls Sie weitere spezifische Bedarfe haben, können Sie uns diese hier gerne mitteilen.
A10: Bund/GV | B10: Nr. | C10: PLZ | D10: Dienststelle | E10: Zustelladresse | F10: Besonderheiten bei Zustellung | H10: Artikel | I10: Spezifikation | J10: geschätzter Jahresbedarf in KG
A11: GV | B11: 1 | C11: =Erklärungsblatt_GV!$E$40 -> 0 | D11: =Erklärungsblatt_GV!$E$37 -> 0 | E11: =Erklärungsblatt_GV!$E$41 -> 0 | F11: =Erklärungsblatt_GV!$E$42 -> 0
A12: GV | B12: 2 | C12: =Erklärungsblatt_GV!$E$40 -> 0 | D12: =Erklärungsblatt_GV!$E$37 -> 0 | E12: =Erklärungsblatt_GV!$E$41 -> 0 | F12: =Erklärungsblatt_GV!$E$42 -> 0
A13: GV | B13: 3 | C13: =Erklärungsblatt_GV!$E$40 -> 0 | D13: =Erklärungsblatt_GV!$E$37 -> 0 | E13: =Erklärungsblatt_GV!$E$41 -> 0 | F13: =Erklärungsblatt_GV!$E$42 -> 0
A14: GV | B14: 4 | C14: =Erklärungsblatt_GV!$E$40 -> 0 | D14: =Erklärungsblatt_GV!$E$37 -> 0 | E14: =Erklärungsblatt_GV!$E$41 -> 0 | F14: =Erklärungsblatt_GV!$E$42 -> 0
A15: GV | B15: 5 | C15: =Erklärungsblatt_GV!$E$40 -> 0 | D15: =Erklärungsblatt_GV!$E$37 -> 0 | E15: =Erklärungsblatt_GV!$E$41 -> 0 | F15: =Erklärungsblatt_GV!$E$42 -> 0
A16: GV | B16: 6 | C16: =Erklärungsblatt_GV!$E$40 -> 0 | D16: =Erklärungsblatt_GV!$E$37 -> 0 | E16: =Erklärungsblatt_GV!$E$41 -> 0 | F16: =Erklärungsblatt_GV!$E$42 -> 0
A17: GV | B17: 7 | C17: =Erklärungsblatt_GV!$E$40 -> 0 | D17: =Erklärungsblatt_GV!$E$37 -> 0 | E17: =Erklärungsblatt_GV!$E$41 -> 0 | F17: =Erklärungsblatt_GV!$E$42 -> 0
A18: GV | B18: 8 | C18: =Erklärungsblatt_GV!$E$40 -> 0 | D18: =Erklärungsblatt_GV!$E$37 -> 0 | E18: =Erklärungsblatt_GV!$E$41 -> 0 | F18: =Erklärungsblatt_GV!$E$42 -> 0
A19: GV | B19: 9 | C19: =Erklärungsblatt_GV!$E$40 -> 0 | D19: =Erklärungsblatt_GV!$E$37 -> 0 | E19: =Erklärungsblatt_GV!$E$41 -> 0 | F19: =Erklärungsblatt_GV!$E$42 -> 0
A20: GV | B20: 10 | C20: =Erklärungsblatt_GV!$E$40 -> 0 | D20: =Erklärungsblatt_GV!$E$37 -> 0 | E20: =Erklärungsblatt_GV!$E$41 -> 0 | F20: =Erklärungsblatt_GV!$E$42 -> 0
A21: GV | B21: 11 | C21: =Erklärungsblatt_GV!$E$40 -> 0 | D21: =Erklärungsblatt_GV!$E$37 -> 0 | E21: =Erklärungsblatt_GV!$E$41 -> 0 | F21: =Erklärungsblatt_GV!$E$42 -> 0
A22: GV | B22: 12 | C22: =Erklärungsblatt_GV!$E$40 -> 0 | D22: =Erklärungsblatt_GV!$E$37 -> 0 | E22: =Erklärungsblatt_GV!$E$41 -> 0 | F22: =Erklärungsblatt_GV!$E$42 -> 0
... A50: GV | B50: 40 | C50: =Erklärungsblatt_GV!$E$40 -> 0 | D50: =Erklärungsblatt_GV!$E$37 -> 0 | E50: =Erklärungsblatt_GV!$E$41 -> 0 | F50: =Erklärungsblatt_GV!$E$42 -> 0
