Workbook
Name Auftragnehmer: #REF!
Name Ausschreibungsart: #REF!
Name Bitte_zutreffendes_auswählen?: #REF!
Name Sublieferant: #REF!

Sheet Anleitung
A1: BEDARFSERHEBUNG
A3: Fleisch und Fleischerzeugnisse
A4: BBG GZ 4401.05496
A5: Anleitung
A8: Hinweise | B8: Zweck | C8: Dieses Formblatt dient der Erhebung Ihrer Bedarfe.
B9: Vollständigkeit | C9: Bitte füllen Sie alle Tabellenblätter dieses Formblattes sorgfältig und wahrheitsgemäß aus.
B10: Reihenfolge | C10: Halten Sie die Reihenfolge der Tabellenblätter ein, da teilweise das Formblatt auf Daten aus früheren Schritten zurückgreift.
B11: Kopieren und Ausschneiden | C11: Bitte verzichten Sie darauf, Inhalte zu kopieren, auszuschneiden und neu einzufügen.
B12: Hinweise in den Tabellenblättern | C12: Beachten Sie bitte die Hinweise in den jeweiligen Tabellenblättern. Sollten Unklarheiten bestehen, nutzen Sie die Möglichkeit zeitgerecht Fragen an unsere Einkaufsexpertinnen und Einkaufsexperten zu stellen.
A14: Farbcodes | B14: Überschrift 1 | C14: Keine Eingabe bzw. gesperrtes Feld
B15: Überschrift 2 | C15: Keine Eingabe bzw. gesperrtes Feld
B16: Überschrift 3 | C16: Keine Eingabe bzw. gesperrtes Feld
B17: Informationsfeld | C17: Keine Eingabe bzw. gesperrtes Feld
B18: Wichtiger Hinweis | C18: Keine Eingabe bzw. gesperrtes Feld
C19: Keine Eingabe bzw. gesperrtes Feld
B20: Eingabefeld | C20: Eingabefeld
A22: nachhaltige Beschaffung | B22: Aktionsplan für nachhaltige Beschaffung - naBe Konformität
B23: zum naBe Aktionsplan:
B24: https://www.nabe.gv.at/wp-content/uploads/2021/06/naBe-Aktionsplan_barrierefrei_27052026.pdf
B25: Bitte beachten Sie die aktuelle Version des naBe-Aktionsplans. Fleisch, Fleischzubereitungen, Faschiertes sowie Wurst bzw. Fleischverarbeitungsprodukte sind eine naBe-relevante Beschaffungsgruppe.

Sheet Datenschutzerklärung
A1: =Anleitung!$A1 -> BEDARFSERHEBUNG
A3: =Anleitung!$A3 -> Fleisch und Fleischerzeugnisse
A4: =Anleitung!$A4 -> BBG GZ 4401.05496
A5: Datenschutzerklärung der Bundesbeschaffung GmbH
A8: Die personenbezogenen Daten, die Sie uns anlässlich dieser Bedarfserhebung angegeben haben, werden entsprechend den einschlägigen österreichischen und europäischen Datenschutzbestimmungen verarbeitet. Rechtsgrundlage dafür sind gesetzliche Verpflichtungen, und zwar insbesondere die Verpflichtungen aufgrund des Bundesvergabegesetzes 2018 (BVergG 2018), des Gesetzes über die Errichtung einer Bundesbeschaffung GmbH (BB-GmbH-Gesetz) sowie der dazu ergangenen Verordnungen wie der Beschaffungscontrolling-Verordnung. Rechtsgrundlage ist weiters die Durchführung vorvertraglicher Maßnahmen. Eine Weitergabe der im jeweiligen Einzelfall relevanten Daten an Dritte erfolgt nicht. Soweit Sie uns eine darüber hinausgehende Datenverwendung freiwillig gestattet haben, verarbeiten wir diese Daten nur auf Grundlage Ihrer Einwilligung und nur zu dem bei der Einwilligung jeweils angegebenen Zweck. Sie können diese Einwilligung jederzeit widerrufen. Ein Widerruf hat zur Folge, dass wir Ihre Daten ab diesem Zeitpunkt zu den genannten Zwecken nicht mehr verarbeiten. Für einen Widerruf wenden Sie sich bitte an: vergabekompetenzcenter@bbg.gv.at Wir speichern Ihre Daten nur so lange bis der jeweilige Zweck erfüllt ist, zu dem sie erhoben wurden, und allfällige gesetzliche Aufbewahrungs- und Dokumentationspflichten abgelaufen sind. Für diese Datenverarbeitung ziehen wir Auftragsverarbeiter heran, mit denen eine Vereinbarung gemäß Artikel 28 DSGVO abgeschlossen wurde. Die Bundesbeschaffung GmbH setzt umfangreiche Schutzmaßnahmen technischer und organisatorischer Art ein, um einen Missbrauch der Daten zu verhindern. Sie erreichen uns unter folgenden Kontaktdaten: Bundesbeschaffung GmbH Lassallestraße 9b, 1020 Wien office@bbg.gv.at Unseren Datenschutzbeauftragten erreichen Sie unter: vergabekompetenzcenter@bbg.gv.at Rechtsbehelfsbelehrung der Bundesbeschaffung GmbH: Ihnen stehen grundsätzlich die Rechte auf Auskunft, Berichtigung, Löschung, Einschränkung, Datenübertragbarkeit und Widerspruch zu. Dafür wenden Sie sich an uns. Wenn Sie glauben, dass die Verarbeitung Ihrer Daten gegen das Datenschutzrecht verstößt oder Ihre datenschutzrechtlichen Ansprüche sonst in einer Weise verletzt worden sind, ersuchen wir um vorrangige Kontaktaufnahme mit unserem Datenschutzbeauftragten. Sie haben auch das Recht sich bei der in Österreich zuständigen Aufsichtsbehörde zu beschweren. Kontakt: Österreichische Datenschutzbehörde Barichgasse 40-42 1030 Wien Telefon: +43 1 531 15-202525 Telefax: +43 1 531 15-202690 E: dsb@dsb.gv.at W: http://www.dsb.gv.at/

Sheet Erklärungsblatt_Bund
A1: =Anleitung!$A1 -> BEDARFSERHEBUNG
A3: =Anleitung!$A3 -> Fleisch und Fleischerzeugnisse
A4: =Anleitung!$A4 -> BBG GZ 4401.05496
A5: Erklärungsblatt
A8: Art der Ausschreibung: | C8: Folgeausschreibung
A9: Aktuelle Geschäftszahl: | C9: 4401.04350 (Fleisch und Wurstwaren) 4401.03830 (Lieferung von Frischgeflügel) 4401.05238 (Fleisch- und Wurstwaren Salzburg, Oberösterreich und Klinikum Rohrbach)
A10: Neue Geschäftszahl: | C10: =Anleitung!$A4 -> BBG GZ 4401.05496
A11: Aktuelle Auftragnehmer: | D11: GZ
C12: Los | D12: 4401.04350 | E12: 4401.03830 | F12: 4401.05238
C13: 1 | D13: Karnerta GmbH | E13: Kröswang GmbH | F13: Kröswang GmbH
C14: 2 | D14: Kröswang GmbH | E14: Kröswang GmbH | F14: Transgourmet Österreich GmbH
C15: 3 | D15: Transgourmet Österreich GmbH | E15: Transgourmet Österreich GmbH | F15: Chefs Culinar GmbH
C16: 4 | D16: Transgourmet Österreich GmbH | E16: Kröswang GmbH
C17: 5 | D17: Transgourmet Österreich GmbH | E17: Kröswang GmbH
C18: 6 | D18: Transgourmet Österreich GmbH | E18: Kröswang GmbH
C19: 7 | D19: Transgourmet Österreich GmbH | E19: Kröswang GmbH
C20: 8 | D20: Fleischhauerei Otzlberger GmbH | E20: BieGe Biogast & Kastner
C21: 9 | D21: Fleischhauerei Otzlberger GmbH | E21: Kröswang GmbH
C22: 10 | D22: Pollhammer GmbH | E22: BieGe Biogast & Kastner
C23: 11 | D23: Transgourmet Österreich GmbH
C24: 12 | D24: Transgourmet Österreich GmbH
C25: 13 | D25: Karnerta GmbH
C26: 14 | D26: Karnerta GmbH
C27: 15 | D27: Sonnberg Biofleisch GmbH
C28: 16 | D28: Kröswang GmbH
C29: 17 | D29: Kröswang GmbH
A30: Rückmeldefrist: | C30: 46325
A32: Kontakt | B32: Ihre Dienststelle | C32: Dienststelle | H32: =IF(E32="", "Eingabe unvollständig!","") -> Eingabe unvollständig!
C33: Straße | H33: =IF(E33="", "Eingabe unvollständig!","") -> Eingabe unvollständig!
C34: Ort | H34: =IF(E34="", "Eingabe unvollständig!","") -> Eingabe unvollständig!
C35: PLZ | H35: =IF(E35="", "Eingabe unvollständig!","") -> Eingabe unvollständig!
C36: Zustelladresse(n) - anzugeben, wenn diese von der oben genannten Adresse der Dienststelle abweichen | H36: =IF(E36="", "Eingabe unvollständig!","") -> Eingabe unvollständig!
C37: Besonderheiten bei der Zustellung (z.B. im Winter nur mit Schneeketten erreichbar, steile Anfahrt; Sicherheitskontrolle, Schranken etc.) | H37: =IF(E37="", "Eingabe unvollständig!","") -> Eingabe unvollständig!
B38: Ihre Kontaktdaten | C38: Vor- und Nachname | H38: =IF(E38="", "Eingabe unvollständig!","") -> Eingabe unvollständig!
C39: Telefonnummer | H39: =IF(E39="", "Eingabe unvollständig!","") -> Eingabe unvollständig!
C40: E-Mail-Adresse | H40: =IF(E40="", "Eingabe unvollständig!","") -> Eingabe unvollständig!
A42: Hinweise zur Bedarfserhebung | B42: Sehr geehrte Damen und Herren, Die BBG beabsichtigt in den nächsten Monaten eine bundesweite Ausschreibung zur Beschaffung von Fleisch und Fleischerzeugnissen durchzuführen. Bei diesem Ausschreibungsvorhaben handelt es sich um eine Folgeausschreibung. Wir bitten Sie deshalb höflich, sich kurz mit dieser Bedarfserhebung auseinander zu setzten und uns Ihre Bedarfe, Anregungen und Wünsche zu diesem Thema bekannt zu geben. Bitte beachten Sie, dass die gemeldete Bedarfe unverbindlich sind und daraus für Sie keine Abnahmeverpflichtung entsteht. Des Weiteren ist zu beachten, dass diese Beschaffungsgruppe dem naBe-Aktionsplan unterliegt und der Auftraggeber für die Einhaltung der naBe-Kriterien eigenverantwortlich ist. Vorgehensweise beim Ausfüllen der Bedarfserhebung Bitte geben sie Ihren geschätzten Bedarf pro Jahr (!) in den entsprechenden Feldern an. Bitte beachten Sie, dass hier der Jahresbedarf in Kilogramm einzutragen ist. Im zusätzlichen Reiter "erweiterter Warenkorb" können Sie Wünsche oder Anmerkungen platzieren, z.B. eine andere Verpackungsgröße, andere Spezifikation, zusätzliche Produkte oder auch BIO-Artikel bzw. Mehr-Tierwohl Artikel.
A49: Ansprechpartner in der BBG | B49: Sollten Sie inhaltliche Fragen haben oder Hilfe benötigen, wenden Sie sich gerne an
B50: Name | C50: Katharina Eller
B51: Telefonnummer | C51: +43 664 780 22 584
...

Sheet Bedarfserhebung
H2: BEDARFSERHEBUNG
J3: Dienststelle | K3: =Erklärungsblatt_Bund!E32 -> 0
H4: =Anleitung!$A3 -> Fleisch und Fleischerzeugnisse | J4: Straße | K4: =Erklärungsblatt_Bund!E33 -> 0
H5: =Anleitung!$A4 -> BBG GZ 4401.05496 | J5: Ort | K5: =Erklärungsblatt_Bund!E34 -> 0
H6: Angabe der Bedarfe | J6: PLZ | K6: =Erklärungsblatt_Bund!E35 -> 0
H8: Falls zutreffend, bitte alle blauen Felder ausfüllen.
K10: kleinste Verkaufseinheit (VKE) in Gramm | M10: Stückgewicht in Gramm | O10: geschätzter Jahresbedarf in KG
A11: Bund/GV | B11: Nr. | C11: PLZ | D11: Dienststelle | E11: Zustelladresse | F11: Besonderheiten bei Zustellung | H11: Warengruppe | I11: Artikel | J11: Spezifikation | K11: Untergrenze | L11: Obergrenze | M11: Untergrenze | N11: Obergrenze | O11: keine best Qual. | P11: wenn verfügbar: AMA-Gütesiegel Qualität | Q11: wenn verfügbar: mehr Tierwohl Qualität | R11: BIO-Qualität | S11: Anmerkungen
A12: GV | B12: 1 | C12: =Erklärungsblatt_Bund!$E$35 -> 0 | D12: =Erklärungsblatt_Bund!$E$32 -> 0 | E12: =Erklärungsblatt_Bund!$E$36 -> 0 | F12: =Erklärungsblatt_Bund!$E$37 -> 0 | H12: BIO Faschiertes | I12: BIO Faschiertes vom Rind | J12: 100 % BIO Rindfleisch; Fettgehalt geringer als 20 %; Verhältnis Kollagen/Fleischeiweiß geringer als 15 % | K12: 900 | L12: 3000 | M12: / | N12: /
A13: GV | B13: 2 | C13: =Erklärungsblatt_Bund!$E$35 -> 0 | D13: =Erklärungsblatt_Bund!$E$32 -> 0 | E13: =Erklärungsblatt_Bund!$E$36 -> 0 | F13: =Erklärungsblatt_Bund!$E$37 -> 0 | H13: BIO Faschiertes | I13: BIO Faschiertes gemischt 1000g | J13: 60 % BIO Schweinefleisch und 40% BIO Rindfleisch; Fettgehalt geringer als 30%; Verhältnis Kollagen/Fleischeiweiß geringer als 18 % | K13: 900 | L13: 1000 | M13: 900 | N13: 1000
A14: GV | B14: 3 | C14: =Erklärungsblatt_Bund!$E$35 -> 0 | D14: =Erklärungsblatt_Bund!$E$32 -> 0 | E14: =Erklärungsblatt_Bund!$E$36 -> 0 | F14: =Erklärungsblatt_Bund!$E$37 -> 0 | H14: BIO Faschiertes | I14: BIO Faschiertes vom Rind | J14: 100 % BIO-Rindfleisch; Fettgehalt geringer als 20 %; Verhältnis Kollagen/Fleischeiweiß geringer als 15 %; 3–5 mm faschiert | K14: 300 | L14: 500 | M14: 300 | N14: 500
A15: GV | B15: 4 | C15: =Erklärungsblatt_Bund!$E$35 -> 0 | D15: =Erklärungsblatt_Bund!$E$32 -> 0 | E15: =Erklärungsblatt_Bund!$E$36 -> 0 | F15: =Erklärungsblatt_Bund!$E$37 -> 0 | H15: BIO Geselchtes | I15: Schweinsschulter (Teilsames), geselcht | J15: 100 % BIO-Schweinefleisch; essfertig; abgezogen und ausgelöst; ohne Knochen; ohne Schulterknorpel; ohne Rückenmark; ohne lose Fleischteile; ohne Blutiges; ohne Drüse; gerade Anschnitte; Fettauflage: max. 0,3 cm | K15: 500 | L15: 600 | M15: 500 | N15: 600
A16: GV | B16: 5 | C16: =Erklärungsblatt_Bund!$E$35 -> 0 | D16: =Erklärungsblatt_Bund!$E$32 -> 0 | E16: =Erklärungsblatt_Bund!$E$36 -> 0 | F16: =Erklärungsblatt_Bund!$E$37 -> 0 | H16: BIO Geselchtes | I16: BIO Selchschopfbraten | J16: 100 % BIO Schweinefleisch; essfertig; abgezogen und ausgelöst; ohne Knochen; ohne Schulterknorpel; ohne Rückenmark; ohne lose Fleischteile; ohne Blutiges; ohne Drüse; gerade Anschnitte; Fettauflage: max. 0,3 cm | K16: 450 | L16: 550 | M16: 450 | N16: 550
A17: GV | B17: 6 | C17: =Erklärungsblatt_Bund!$E$35 -> 0 | D17: =Erklärungsblatt_Bund!$E$32 -> 0 | E17: =Erklärungsblatt_Bund!$E$36 -> 0 | F17: =Erklärungsblatt_Bund!$E$37 -> 0 | H17: BIO Huhn | I17: BIO Huhn, ganz | J17: 100 % BIO; Huhn ganz; kalibriert; grillfertig; im Ganzen; ohne Innereien; roh; natur; ungewürzt | K17: 1400 | L17: 15000 | M17: 1400 | N17: 1800
A18: GV | B18: 7 | C18: =Erklärungsblatt_Bund!$E$35 -> 0 | D18: =Erklärungsblatt_Bund!$E$32 -> 0 | E18: =Erklärungsblatt_Bund!$E$36 -> 0 | F18: =Erklärungsblatt_Bund!$E$37 -> 0 | H18: BIO Huhn | I18: BIO Hühnerfilet, ca. 200g | J18: 100 % BIO unkalibriertes Filet aus ganzen Stücken; roh; ungewürzt; ohne Haut und Knochen | K18: 360 | L18: 440 | M18: 180 | N18: 220
A19: GV | B19: 8 | C19: =Erklärungsblatt_Bund!$E$35 -> 0 | D19: =Erklärungsblatt_Bund!$E$32 -> 0 | E19: =Erklärungsblatt_Bund!$E$36 -> 0 | F19: =Erklärungsblatt_Bund!$E$37 -> 0 | H19: BIO Huhn | I19: BIO Hühnergeschnetzeltes aus Filet | J19: 100 % BIO; aus dem Filet; roh; in Streifen geschnitten; 1-1,5 x 1-1,5 x 2-3 cm; ohne Haut; Knochen; Sehnen und Knorpel | K19: 1000 | L19: 5000 | M19: / | N19: /
A20: GV | B20: 9 | C20: =Erklärungsblatt_Bund!$E$35 -> 0 | D20: =Erklärungsblatt_Bund!$E$32 -> 0 | E20: =Erklärungsblatt_Bund!$E$36 -> 0 | F20: =Erklärungsblatt_Bund!$E$37 -> 0 | H20: BIO Huhn | I20: BIO Hühnerkeule ca. 230-260g | J20: 100 % BIO; kalibriert; grillfertig; ohne Rückenanteil; anatomischer Gelenkschnitt; mit Haut und Knochen; roh; natur | K20: 460 | L20: 2500 | M20: 230 | N20: 260
A21: GV | B21: 10 | C21: =Erklärungsblatt_Bund!$E$35 -> 0 | D21: =Erklärungsblatt_Bund!$E$32 -> 0 | E21: =Erklärungsblatt_Bund!$E$36 -> 0 | F21: =Erklärungsblatt_Bund!$E$37 -> 0 | H21: BIO Huhn | I21: BIO Hühneroberkeule, ausgelöst, unkalibrert | J21: 100 % BIO; unkalibriert; ohne Rückenanteil; ausgelöst; ohne Haut ohne Knochen; roh | K21: 1000 | L21: 5000 | M21: 240 | N21: 290
A22: GV | B22: 11 | C22: =Erklärungsblatt_Bund!$E$35 -> 0 | D22: =Erklärungsblatt_Bund!$E$32 -> 0 | E22: =Erklärungsblatt_Bund!$E$36 -> 0 | F22: =Erklärungsblatt_Bund!$E$37 -> 0 | H22: BIO Huhn | I22: BIO Hühnergeschnetzeltes aus der Keule | J22: 100 % BIO; aus der Keule; roh; in Streifen geschnitten; 1-1,5 x 1-1,5 x 2-3 cm; ohne Haut; Knochen; Sehnen und Knorpel | K22: 1000 | L22: 5000 | M22: / | N22: /
A23: GV | B23: 12 | C23: =Erklärungsblatt_Bund!$E$35 -> 0 | D23: =Erklärungsblatt_Bund!$E$32 -> 0 | E23: =Erklärungsblatt_Bund!$E$36 -> 0 | F23: =Erklärungsblatt_Bund!$E$37 -> 0 | H23: BIO Huhn | I23: BIO Hühnerkeulenfleisch | J23: 100 % BIO; grillfertig; ohne Rückenanteil; anatomischer Gelenkschnitt; mit Haut ohne Knochen; roh; natur | K23: 450 | L23: 550 | M23: / | N23: /
A24: GV | B24: 13 | C24: =Erklärungsblatt_Bund!$E$35 -> 0 | D24: =Erklärungsblatt_Bund!$E$32 -> 0 | E24: =Erklärungsblatt_Bund!$E$36 -> 0 | F24: =Erklärungsblatt_Bund!$E$37 -> 0 | H24: BIO Huhn | I24: BIO Hühnerflügerl | J24: 100 % BIO; kalibriert; ohne Spitzen; anatomischer Gelenksschnitt; mit Haut und Knochen; roh; natur | K24: 450 | L24: 550 | M24: / | N24: /
A25: GV | B25: 14 | C25: =Erklärungsblatt_Bund!$E$35 -> 0 | D25: =Erklärungsblatt_Bund!$E$32 -> 0 | E25: =Erklärungsblatt_Bund!$E$36 -> 0 | F25: =Erklärungsblatt_Bund!$E$37 -> 0 | H25: BIO Kalb | I25: BIO Kalbsschnitzel | J25: 100 % BIO-Kalbfleisch; aus der Schale geschnitten; kalibriert und plattiert; zugeputzt; ohne Deckel; Sehnen und Fett; roh; natur; Fettauflage: keine | K25: 700 | L25: 1000 | M25: 120 | N25: 180
A26: GV | B26: 15 | C26: =Erklärungsblatt_Bund!$E$35 -> 0 | D26: =Erklärungsblatt_Bund!$E$32 -> 0 | E26: =Erklärungsblatt_Bund!$E$36 -> 0 | F26: =Erklärungsblatt_Bund!$E$37 -> 0 | H26: BIO Kalb | I26: BIO Kalb Schale ohne Deckel | J26: 100 % BIO-Kalbfleisch; Schale im Ganzen; ohne Deckel; sauber zugeputzt; ohne grobe Sehnen; lose Fleischteile; Blutiges und Knorpel; Fettauflage: keine | K26: 1750 | L26: 2250 | M26: 1750 | N26: 2250
A27: GV | B27: 16 | C27: =Erklärungsblatt_Bund!$E$35 -> 0 | D27: =Erklärungsblatt_Bund!$E$32 -> 0 | E27: =Erklärungsblatt_Bund!$E$36 -> 0 | F27: =Erklärungsblatt_Bund!$E$37 -> 0 | H27: BIO Kalb | I27: BIO Kalbslungenbraten | J27: 100 % BIO-Kalbfleisch; Lungenbraten im Ganzen; ohne Kette; vollständig abpariert; ohne lose Fleischteile; Sehnen und Fett; roh; natur; Fettauflage: keine | K27: 500 | L27: 700 | M27: 500 | N27: 700
A28: GV | B28: 17 | C28: =Erklärungsblatt_Bund!$E$35 -> 0 | D28: =Erklärungsblatt_Bund!$E$32 -> 0 | E28: =Erklärungsblatt_Bund!$E$36 -> 0 | F28: =Erklärungsblatt_Bund!$E$37 -> 0 | H28: BIO Pute | I28: BIO Putenbrust ca. 1kg | J28: 100 % BIO; kalibriert; im Ganzen; Brustfleisch halbiert; ohne Mittelknorpel/-steg; roh; ohne Haut; ohne Knochen; ohne Würzung; männliche Ware | K28: 950 | L28: 1050 | M28: 950 | N28: 1050
A29: GV | B29: 18 | C29: =Erklärungsblatt_Bund!$E$35 -> 0 | D29: =Erklärungsblatt_Bund!$E$32 -> 0 | E29: =Erklärungsblatt_Bund!$E$36 -> 0 | F29: =Erklärungsblatt_Bund!$E$37 -> 0 | H29: BIO Pute | I29: BIO Putenschnitzel, 150g | J29: 100 % BIO; kalibriert; geschnitten aus ganzen Brustfleischstücken; ohne Mittelsehne; roh | K29: 1450 | L29: 3200 | M29: 145 | N29: 155
A30: GV | B30: 19 | C30: =Erklärungsblatt_Bund!$E$35 -> 0 | D30: =Erklärungsblatt_Bund!$E$32 -> 0 | E30: =Erklärungsblatt_Bund!$E$36 -> 0 | F30: =Erklärungsblatt_Bund!$E$37 -> 0 | H30: BIO Pute | I30: BIO Putengeschnetzelt aus Filet | J30: 100 % BIO; aus dem Filet; roh; in Streifen geschnitten; 1-1,5 x 1-1,5 x 2-3 cm; ohne Haut; Knochen; Sehnen und Knorpel | K30: 1000 | L30: 5000 | M30: / | N30: /
A31: GV | B31: 20 | C31: =Erklärungsblatt_Bund!$E$35 -> 0 | D31: =Erklärungsblatt_Bund!$E$32 -> 0 | E31: =Erklärungsblatt_Bund!$E$36 -> 0 | F31: =Erklärungsblatt_Bund!$E$37 -> 0 | H31: BIO Pute | I31: BIO Putengeschnetzelt aus der Oberkeule | J31: 100 % BIO; aus der Keule; roh; in Streifen geschnitten; 1-1,5 x 1-1,5 x 2-3 cm; ohne Haut; Knochen; Sehnen und Knorpel | K31: 1000 | L31: 5000 | M31: / | N31: /
A32: GV | B32: 21 | C32: =Erklärungsblatt_Bund!$E$35 -> 0 | D32: =Erklärungsblatt_Bund!$E$32 -> 0 | E32: =Erklärungsblatt_Bund!$E$36 -> 0 | F32: =Erklärungsblatt_Bund!$E$37 -> 0 | H32: BIO Pute | I32: BIO Pute gewürfelt aus der Oberkeule | J32: 100 % BIO; Oberkeule; ohne Haut; ohne Knochen; ohne Sehnen; geschnitten; 2 x 2 x 2 cm; roh | K32: 1000 | L32: 5000 | M32: / | N32: /
A33: GV | B33: 22 | C33: =Erklärungsblatt_Bund!$E$35 -> 0 | D33: =Erklärungsblatt_Bund!$E$32 -> 0 | E33: =Erklärungsblatt_Bund!$E$36 -> 0 | F33: =Erklärungsblatt_Bund!$E$37 -> 0 | H33: BIO Pute | I33: BIO Putenrollbraten | J33: 100 % BIO; aus Keulenfleisch; natur; roh; mit Netz | K33: 1500 | L33: 2500 | M33: 1500 | N33: 2500
A34: GV | B34: 23 | C34: =Erklärungsblatt_Bund!$E$35 -> 0 | D34: =Erklärungsblatt_Bund!$E$32 -> 0 | E34: =Erklärungsblatt_Bund!$E$36 -> 0 | F34: =Erklärungsblatt_Bund!$E$37 -> 0 | H34: BIO Pute | I34: BIO Putenfaschiertes egalisiert | J34: 100 % BIO; Fleisch aus der Keule; faschiert; ohne Knochen; ohne Fasern; roh | K34: 950 | L34: 1050 | M34: / | N34: /
A35: GV | B35: 24 | C35: =Erklärungsblatt_Bund!$E$35 -> 0 | D35: =Erklärungsblatt_Bund!$E$32 -> 0 | E35: =Erklärungsblatt_Bund!$E$36 -> 0 | F35: =Erklärungsblatt_Bund!$E$37 -> 0 | H35: BIO Pute | I35: BIO Putenoberkeule ausgel. innen mariniert | J35: 100 % BIO; ausgelöst; ohne Knochen; innen mariniert; vac; roh | K35: 1500 | L35: 2500 | M35: / | N35: /
A36: GV | B36: 25 | C36: =Erklärungsblatt_Bund!$E$35 -> 0 | D36: =Erklärungsblatt_Bund!$E$32 -> 0 | E36: =Erklärungsblatt_Bund!$E$36 -> 0 | F36: =Erklärungsblatt_Bund!$E$37 -> 0 | H36: BIO Pute | I36: BIO Putenoberkeule gew. 3x3x3cm mariniert | J36: 100 % BIO; 3x3x3 cm gewürfelt; mariniert; ohne Knochen; vac; roh | K36: 1500 | L36: 2500 | M36: / | N36: /
A37: GV | B37: 26 | C37: =Erklärungsblatt_Bund!$E$35 -> 0 | D37: =Erklärungsblatt_Bund!$E$32 -> 0 | E37: =Erklärungsblatt_Bund!$E$36 -> 0 | F37: =Erklärungsblatt_Bund!$E$37 -> 0 | H37: BIO Rind | I37: BIO Wade, hintere | J37: 100 % BIO; im Ganzen; ausgelöst und zugeputzt; ohne grobe Sehnen; ohne Knorpel; ohne Bindhäute | K37: 2500 | L37: 3800 | M37: 2500 | N37: 3800
A38: GV | B38: 27 | C38: =Erklärungsblatt_Bund!$E$35 -> 0 | D38: =Erklärungsblatt_Bund!$E$32 -> 0 | E38: =Erklärungsblatt_Bund!$E$36 -> 0 | F38: =Erklärungsblatt_Bund!$E$37 -> 0 | H38: BIO Rind | I38: BIO Tafelstück, 3,5 - 5kg | J38: 100 % BIO; zugeputzt; ab Schlussbeinhocker abgeschnitten mit Fettauflage; ohne Flachsehnen Fettauflage: max. 1cm | K38: 3500 | L38: 5000 | M38: 3500 | N38: 5000
A39: GV | B39: 28 | C39: =Erklärungsblatt_Bund!$E$35 -> 0 | D39: =Erklärungsblatt_Bund!$E$32 -> 0 | E39: =Erklärungsblatt_Bund!$E$36 -> 0 | F39: =Erklärungsblatt_Bund!$E$37 -> 0 | H39: BIO Rind | I39: BIO Rind Schulterscherzel | J39: 100 % BIO; im Ganzen; ohne grobe Sehnen; Fettbesatz bis auf eine dünne Schicht abgehoben; Fettauflage: max. 0,5 cm | K39: 1800 | L39: 2200 | M39: 1800 | N39: 2200
A40: GV | B40: 29 | C40: =Erklärungsblatt_Bund!$E$35 -> 0 | D40: =Erklärungsblatt_Bund!$E$32 -> 0 | E40: =Erklärungsblatt_Bund!$E$36 -> 0 | F40: =Erklärungsblatt_Bund!$E$37 -> 0 | H40: BIO Rind | I40: BIO Rind Mageres Meisel | J40: 100 % BIO; im Ganzen ohne grobe Sehnen; Fettbesatz bis auf eine dünne Schicht abgehoben; Fettauflage: max. 0,5 cm | K40: 1200 | L40: 1600 | M40: 1200 | N40: 1600
A41: GV | B41: 30 | C41: =Erklärungsblatt_Bund!$E$35 -> 0 | D41: =Erklärungsblatt_Bund!$E$32 -> 0 | E41: =Erklärungsblatt_Bund!$E$36 -> 0 | F41: =Erklärungsblatt_Bund!$E$37 -> 0 | H41: BIO Rind | I41: BIO Rind Dicke Schulter | J41: 100 % BIO; im Ganzen; ohne grobe Sehnen; Fettbesatz bis auf eine dünne Schicht abgehoben; Fettauflage: max. 0,5 cm | K41: 2900 | L41: 4200 | M41: 2900 | N41: 4200
A42: GV | B42: 31 | C42: =Erklärungsblatt_Bund!$E$35 -> 0 | D42: =Erklärungsblatt_Bund!$E$32 -> 0 | E42: =Erklärungsblatt_Bund!$E$36 -> 0 | F42: =Erklärungsblatt_Bund!$E$37 -> 0 | H42: BIO Rind | I42: BIO Rindfleischwürfel, aus der dicken Schulter, 3 x 3 x 3 cm | J42: 100 % BIO; gewürfelt geschnitten; 3 x 3 x 3 cm; aus der dicken Schulter (ohne grobe Sehnen; Fettbesatz bis auf eine dünne Schicht abgehoben; Fettauflage: max. 0,5 cm) | K42: 3000 | L42: 5100 | M42: / | N42: /
A43: GV | B43: 32 | C43: =Erklärungsblatt_Bund!$E$35 -> 0 | D43: =Erklärungsblatt_Bund!$E$32 -> 0 | E43: =Erklärungsblatt_Bund!$E$36 -> 0 | F43: =Erklärungsblatt_Bund!$E$37 -> 0 | H43: BIO Rind | I43: BIO Rind Vorderes zum Kochen | J43: 100 % BIO; Vorderes Viertel zum Kochen; ohne Knochen und grobe Sehnen; aus dem vorderen Teil des Rindes; Fettauflage wie gewachsen; roh; natur | K43: 500 | L43: 5000 | M43: 500 | N43: 5000
...

Sheet erweiterter Warenkorb
H2: BEDARFSERHEBUNG
H4: =Anleitung!$A3 -> Fleisch und Fleischerzeugnisse
H5: =Anleitung!$A4 -> BBG GZ 4401.05496
H6: Angabe der Bedarfe - erweiterter Warenkorb
H8: Falls Sie weitere spezifische Bedarfe haben, können Sie uns diese hier gerne mitteilen.
A10: Bund/GV | B10: Nr. | C10: PLZ | D10: Dienststelle | E10: Zustelladresse | F10: Besonderheiten bei der Zustellung | H10: Artikel | I10: Spezifikation | J10: geschätzter Jahresbedarf in KG
A11: GV | B11: 1 | C11: =Erklärungsblatt_Bund!$E$35 -> 0 | D11: =Erklärungsblatt_Bund!$E$32 -> 0 | E11: =Erklärungsblatt_Bund!$E$36 -> 0 | F11: =Erklärungsblatt_Bund!$E$37 -> 0
A12: GV | B12: 2 | C12: =Erklärungsblatt_Bund!$E$35 -> 0 | D12: =Erklärungsblatt_Bund!$E$32 -> 0 | E12: =Erklärungsblatt_Bund!$E$36 -> 0 | F12: =Erklärungsblatt_Bund!$E$37 -> 0
A13: GV | B13: 3 | C13: =Erklärungsblatt_Bund!$E$35 -> 0 | D13: =Erklärungsblatt_Bund!$E$32 -> 0 | E13: =Erklärungsblatt_Bund!$E$36 -> 0 | F13: =Erklärungsblatt_Bund!$E$37 -> 0
A14: GV | B14: 4 | C14: =Erklärungsblatt_Bund!$E$35 -> 0 | D14: =Erklärungsblatt_Bund!$E$32 -> 0 | E14: =Erklärungsblatt_Bund!$E$36 -> 0 | F14: =Erklärungsblatt_Bund!$E$37 -> 0
A15: GV | B15: 5 | C15: =Erklärungsblatt_Bund!$E$35 -> 0 | D15: =Erklärungsblatt_Bund!$E$32 -> 0 | E15: =Erklärungsblatt_Bund!$E$36 -> 0 | F15: =Erklärungsblatt_Bund!$E$37 -> 0
A16: GV | B16: 6 | C16: =Erklärungsblatt_Bund!$E$35 -> 0 | D16: =Erklärungsblatt_Bund!$E$32 -> 0 | E16: =Erklärungsblatt_Bund!$E$36 -> 0 | F16: =Erklärungsblatt_Bund!$E$37 -> 0
A17: GV | B17: 7 | C17: =Erklärungsblatt_Bund!$E$35 -> 0 | D17: =Erklärungsblatt_Bund!$E$32 -> 0 | E17: =Erklärungsblatt_Bund!$E$36 -> 0 | F17: =Erklärungsblatt_Bund!$E$37 -> 0
A18: GV | B18: 8 | C18: =Erklärungsblatt_Bund!$E$35 -> 0 | D18: =Erklärungsblatt_Bund!$E$32 -> 0 | E18: =Erklärungsblatt_Bund!$E$36 -> 0 | F18: =Erklärungsblatt_Bund!$E$37 -> 0
A19: GV | B19: 9 | C19: =Erklärungsblatt_Bund!$E$35 -> 0 | D19: =Erklärungsblatt_Bund!$E$32 -> 0 | E19: =Erklärungsblatt_Bund!$E$36 -> 0 | F19: =Erklärungsblatt_Bund!$E$37 -> 0
A20: GV | B20: 10 | C20: =Erklärungsblatt_Bund!$E$35 -> 0 | D20: =Erklärungsblatt_Bund!$E$32 -> 0 | E20: =Erklärungsblatt_Bund!$E$36 -> 0 | F20: =Erklärungsblatt_Bund!$E$37 -> 0
A21: GV | B21: 11 | C21: =Erklärungsblatt_Bund!$E$35 -> 0 | D21: =Erklärungsblatt_Bund!$E$32 -> 0 | E21: =Erklärungsblatt_Bund!$E$36 -> 0 | F21: =Erklärungsblatt_Bund!$E$37 -> 0
A22: GV | B22: 12 | C22: =Erklärungsblatt_Bund!$E$35 -> 0 | D22: =Erklärungsblatt_Bund!$E$32 -> 0 | E22: =Erklärungsblatt_Bund!$E$36 -> 0 | F22: =Erklärungsblatt_Bund!$E$37 -> 0
... A50: GV | B50: 40 | C50: =Erklärungsblatt_Bund!$E$35 -> 0 | D50: =Erklärungsblatt_Bund!$E$32 -> 0 | E50: =Erklärungsblatt_Bund!$E$36 -> 0 | F50: =Erklärungsblatt_Bund!$E$37 -> 0
